BEGIN:VCALENDAR
VERSION:2.0
PRODID:-//Venture Lane - ECPv6.15.20//NONSGML v1.0//EN
CALSCALE:GREGORIAN
METHOD:PUBLISH
X-ORIGINAL-URL:https://venturelane.dstrickler.com
X-WR-CALDESC:Events for Venture Lane
REFRESH-INTERVAL;VALUE=DURATION:PT1H
X-Robots-Tag:noindex
X-PUBLISHED-TTL:PT1H
BEGIN:VTIMEZONE
TZID:America/New_York
BEGIN:DAYLIGHT
TZOFFSETFROM:-0500
TZOFFSETTO:-0400
TZNAME:EDT
DTSTART:20230312T070000
END:DAYLIGHT
BEGIN:STANDARD
TZOFFSETFROM:-0400
TZOFFSETTO:-0500
TZNAME:EST
DTSTART:20231105T060000
END:STANDARD
BEGIN:DAYLIGHT
TZOFFSETFROM:-0500
TZOFFSETTO:-0400
TZNAME:EDT
DTSTART:20240310T070000
END:DAYLIGHT
BEGIN:STANDARD
TZOFFSETFROM:-0400
TZOFFSETTO:-0500
TZNAME:EST
DTSTART:20241103T060000
END:STANDARD
BEGIN:DAYLIGHT
TZOFFSETFROM:-0500
TZOFFSETTO:-0400
TZNAME:EDT
DTSTART:20250309T070000
END:DAYLIGHT
BEGIN:STANDARD
TZOFFSETFROM:-0400
TZOFFSETTO:-0500
TZNAME:EST
DTSTART:20251102T060000
END:STANDARD
END:VTIMEZONE
BEGIN:VEVENT
DTSTART;TZID=America/New_York:20240424T170000
DTEND;TZID=America/New_York:20240424T170000
DTSTAMP:20260422T214006
CREATED:20240418T172443Z
LAST-MODIFIED:20240418T172443Z
UID:10000060-1713978000-1713978000@venturelane.dstrickler.com
SUMMARY:BYO Pitch Deck with DocSend\, Prepare 4 VC\, and Boston New Technology
DESCRIPTION:DocSend experts will be providing a very valuable BYOP (Bring Your Own Pitch Deck) and teardown which will be seamlessly integrated into a real-life version of BNT’s Precision Pitch Practice. This will be accompanied by BNT’s Startup Showcase featuring successful startup ventures guiding through their journey followed by Q&A. Networking and refreshments will also be served at Venture Lane\, Boston’s leading Startup hub for B2B Tech.
URL:https://experience.dropbox.com/form/docsend/byopd-boston-2024?utm=techcrunch&target=_blank
CATEGORIES:Pitch Night Series
ATTACH;FMTTYPE=image/png:https://venturelane.dstrickler.com/wp-content/uploads/2024/04/Fireside-Chat-Founder-Stories-.png
END:VEVENT
BEGIN:VEVENT
DTSTART;TZID=America/New_York:20240425T173000
DTEND;TZID=America/New_York:20240425T203000
DTSTAMP:20260422T214006
CREATED:20240418T172353Z
LAST-MODIFIED:20240425T182604Z
UID:10000059-1714066200-1714077000@venturelane.dstrickler.com
SUMMARY:Women Tech Meetup: Fundraising & Growth
DESCRIPTION:Join our Women Tech Meetup: Fundraising & Growth co-hosted by Techstars & EKOS.AI — an incredible gathering of women in technology\, female founders\, entrepreneurs\, community builders\, and other professionals! Enjoy complimentary drinks and snacks\, engaging conversations\, networking\, and a beautiful venue 🌟 ​​Additionally\, we will host a panel discussion on fundraising\, venture capital\, and the challenges that founders face on their journey to building successful companies\, along with strategies to overcome them.
URL:https://lu.ma/e5dajln9?target=_blank
CATEGORIES:Member Exclusives,Pitch Night Series
ATTACH;FMTTYPE=image/png:https://venturelane.dstrickler.com/wp-content/uploads/2024/04/Fireside-Chat-Founder-Stories-.png
END:VEVENT
END:VCALENDAR