BEGIN:VCALENDAR
VERSION:2.0
PRODID:-//Venture Lane - ECPv6.15.20//NONSGML v1.0//EN
CALSCALE:GREGORIAN
METHOD:PUBLISH
X-ORIGINAL-URL:https://venturelane.dstrickler.com
X-WR-CALDESC:Events for Venture Lane
REFRESH-INTERVAL;VALUE=DURATION:PT1H
X-Robots-Tag:noindex
X-PUBLISHED-TTL:PT1H
BEGIN:VTIMEZONE
TZID:UTC
BEGIN:STANDARD
TZOFFSETFROM:+0000
TZOFFSETTO:+0000
TZNAME:UTC
DTSTART:20230101T000000
END:STANDARD
END:VTIMEZONE
BEGIN:VEVENT
DTSTART;TZID=UTC:20240312T173000
DTEND;TZID=UTC:20240312T210000
DTSTAMP:20260421T132450
CREATED:20240320T024748Z
LAST-MODIFIED:20240405T202632Z
UID:10000005-1710264600-1710277200@venturelane.dstrickler.com
SUMMARY:Venture Lane Blue Hour + Cohort 5 Reveal
DESCRIPTION:This special installment of Venture Lane’s monthly Blue Hour brings together 70+ of the incredible founders\, mentors\, and investors you know and love PLUS we’ll be announcing Venture Lane Studio’s fabulous Cohort 5!! \nRSVP Here! \n 
URL:https://markitevents.com/e/BQAGIZb11?target=_blank
LOCATION:Test Venue\, 55 Court St\, Boston\, MA\, 02203\, United States
CATEGORIES:Founder Socials
ATTACH;FMTTYPE=image/png:https://venturelane.dstrickler.com/wp-content/uploads/2024/03/BQAGIZb11.png
ORGANIZER;CN="Venture Lane":MAILTO:contact@venturelane.dstrickler.com
END:VEVENT
END:VCALENDAR