BEGIN:VCALENDAR
VERSION:2.0
PRODID:-//Venture Lane - ECPv6.15.20//NONSGML v1.0//EN
CALSCALE:GREGORIAN
METHOD:PUBLISH
X-WR-CALNAME:Venture Lane
X-ORIGINAL-URL:https://venturelane.dstrickler.com
X-WR-CALDESC:Events for Venture Lane
REFRESH-INTERVAL;VALUE=DURATION:PT1H
X-Robots-Tag:noindex
X-PUBLISHED-TTL:PT1H
BEGIN:VTIMEZONE
TZID:America/New_York
BEGIN:DAYLIGHT
TZOFFSETFROM:-0500
TZOFFSETTO:-0400
TZNAME:EDT
DTSTART:20230312T070000
END:DAYLIGHT
BEGIN:STANDARD
TZOFFSETFROM:-0400
TZOFFSETTO:-0500
TZNAME:EST
DTSTART:20231105T060000
END:STANDARD
BEGIN:DAYLIGHT
TZOFFSETFROM:-0500
TZOFFSETTO:-0400
TZNAME:EDT
DTSTART:20240310T070000
END:DAYLIGHT
BEGIN:STANDARD
TZOFFSETFROM:-0400
TZOFFSETTO:-0500
TZNAME:EST
DTSTART:20241103T060000
END:STANDARD
BEGIN:DAYLIGHT
TZOFFSETFROM:-0500
TZOFFSETTO:-0400
TZNAME:EDT
DTSTART:20250309T070000
END:DAYLIGHT
BEGIN:STANDARD
TZOFFSETFROM:-0400
TZOFFSETTO:-0500
TZNAME:EST
DTSTART:20251102T060000
END:STANDARD
END:VTIMEZONE
BEGIN:VEVENT
DTSTART;TZID=America/New_York:20240509T140000
DTEND;TZID=America/New_York:20240509T151500
DTSTAMP:20260421T100640
CREATED:20240501T142327Z
LAST-MODIFIED:20240501T142722Z
UID:10000064-1715263200-1715267700@venturelane.dstrickler.com
SUMMARY:Zero Risk Startup Workshop with Paulo Andrez
DESCRIPTION:Join us for an exclusive workshop with Paulo Andrez\, the author of “Zero Risk Startup: The Ultimate Entrepreneur’s Guide to Mitigating Risks When Starting or Growing a Business”. Attendees will include founder teams affiliated with Mass Challenge\, Venture Lane\, SVB Boston\, and Techstars. \nIn this workshop\, you’ll learn and discover:\n– How to evaluate the viability of your business idea\n– Proven strategies for identifying and mitigating risks\n– Leveraging AI for Risk Management \nThis event is not just about theory; it’s a practical roadmap crafted from real-world experiences and global perspectives. Learn from Andrez’s own journey and gain invaluable insights to steer your venture towards success.
URL:https://share.hsforms.com/1fjqk9AJRQZWAtfv-xrGkiw48zqt?target=_blank
CATEGORIES:Member Exclusives
ATTACH;FMTTYPE=image/png:https://venturelane.dstrickler.com/wp-content/uploads/2024/04/Fireside-Chat-Founder-Stories-.png
END:VEVENT
BEGIN:VEVENT
DTSTART;TZID=America/New_York:20240509T160000
DTEND;TZID=America/New_York:20240509T180000
DTSTAMP:20260421T100640
CREATED:20240418T172241Z
LAST-MODIFIED:20240418T172250Z
UID:10000058-1715270400-1715277600@venturelane.dstrickler.com
SUMMARY:Zero Risk Startup Book Launch: Fireside Chat with Paulo Andrez
DESCRIPTION:Join us for the Forbes Books’ launch of “Zero Risk Startup: The Ultimate Entrepreneur’s Guide to Mitigating Risks When Starting or Growing a Business” by Paulo Andrez of the European Business Angels Network. In this fireside chat\, you’ll hear key tips to launching or growing your business with minimal risks. With over one hundred actionable tips and tools\, Andrez’s “Zero Risk Startup” methodology empowers entrepreneurs to navigate the uncertain terrain of business with confidence and clarity.
URL:https://events.svb.com/zeroriskstartupboston?target=_blank
CATEGORIES:Member Exclusives
ATTACH;FMTTYPE=image/png:https://venturelane.dstrickler.com/wp-content/uploads/2024/04/Fireside-Chat-Founder-Stories-.png
END:VEVENT
BEGIN:VEVENT
DTSTART;TZID=America/New_York:20240514T120000
DTEND;TZID=America/New_York:20240514T130000
DTSTAMP:20260421T100640
CREATED:20240418T172144Z
LAST-MODIFIED:20240429T161131Z
UID:10000057-1715688000-1715691600@venturelane.dstrickler.com
SUMMARY:The Power of your Story: Moving Others Action with Chuck Goldstone
DESCRIPTION:Join Chuck Goldstone\, author of Strategies and Stories: Getting Others to Listen\, Like You\, and Say “Tell Me More!” for insights\, tools\, and best practices to skillfully develop and delivery messages that assure that you and your story are ones that are remembered. In this session\, you the importance and power of your story is\, how to construct one and adapt it for any audience\, how to be heard over the noise\, and how to avoid common and fatal mistakes. You will leave with a new perspective\, enthusiasm\, and a few practices that you can use from that day onward.
URL:https://markitevents.com/e/iSYbXOsaOA?target=_blank
CATEGORIES:Member Exclusives
ATTACH;FMTTYPE=image/png:https://venturelane.dstrickler.com/wp-content/uploads/2024/04/Fireside-Chat-Founder-Stories-.png
END:VEVENT
BEGIN:VEVENT
DTSTART;TZID=America/New_York:20240516T173000
DTEND;TZID=America/New_York:20240516T193000
DTSTAMP:20260421T100640
CREATED:20240429T160354Z
LAST-MODIFIED:20240517T152326Z
UID:10000062-1715880600-1715887800@venturelane.dstrickler.com
SUMMARY:Venture Lane Blue Hour
DESCRIPTION:Join us for our Venture Lane’s monthly Blue Hour brings together 70+ of the incredible founders\, mentors\, and investors you know and love!
URL:https://markitevents.com/e/X78p7j0MT?target=_blank
CATEGORIES:Founder Socials
ATTACH;FMTTYPE=image/png:https://venturelane.dstrickler.com/wp-content/uploads/2024/04/5.31.22-Updated-Blue-Hour-Graphic.png
END:VEVENT
BEGIN:VEVENT
DTSTART;TZID=America/New_York:20240522T183000
DTEND;TZID=America/New_York:20240522T200000
DTSTAMP:20260421T100640
CREATED:20240429T161025Z
LAST-MODIFIED:20240523T154211Z
UID:10000063-1716402600-1716408000@venturelane.dstrickler.com
SUMMARY:Reimagining High Performance for Ambitious Women in Business with Emily Leahy
DESCRIPTION:Join us for this interactive talk and discover a new approach to achieving next-level goals and sustaining success. You’ll be introduced to fresh perspectives on how to optimize fluctuations in performance as a woman to be even more efficient and effective.
URL:https://lu.ma/h3xy6cqf?target=_blank
CATEGORIES:Pitch Night Series
ATTACH;FMTTYPE=image/png:https://venturelane.dstrickler.com/wp-content/uploads/2024/04/Fireside-Chat-Founder-Stories-.png
END:VEVENT
END:VCALENDAR